BEGIN:VCALENDAR
METHOD:PUBLISH
PRODID:-//https://diveinstructor.com.ua//NONSGML jCal Pro 2.2.10.545//
VERSION:2.0
X-WR-CALNAME:JCal Pro Calendar
X-WR-CALDESC:Your online events calendar
X-WR-TIMEZONE:Europe/Kiev
BEGIN:VEVENT
UID:7d0a3a1a0c1b107b3a5f299ec8826daahttp://diveinstructor.com.ua
DTSTAMP:20260419T125618Z
CONTACT:Юрий +38050 4877739\n\nскайп:  bataeww
DESCRIPTION:Свободных мест нет.
DTEND:20110626T110000Z
DTSTART:20110626T060000Z
LAST-MODIFIED:20110622T141200Z
SUMMARY:Погружение на Цесаревич
END:VEVENT
BEGIN:VEVENT
UID:d44827a0812e70a8d4dbcf88cb74c4d2http://diveinstructor.com.ua-29
DTSTAMP:20260419T125618Z
CONTACT:+38050 4877739\;\nскайп:  bataeww
DESCRIPTION:Свободно 2 места.
DTSTART:20110727T060000Z
LAST-MODIFIED:20110721T105000Z
SUMMARY:Погружение на Цесаревич Алексей
END:VEVENT
BEGIN:VEVENT
UID:a0fbae837363a87eb6aaf94b40baef5ehttp://diveinstructor.com.ua-31
DTSTAMP:20260419T125618Z
CONTACT:+38050 4877739\;\nскайп:  bataeww
DESCRIPTION:Свободно 2 места.
DTSTART:20110727T130000Z
LAST-MODIFIED:20110721T105300Z
SUMMARY:Погружение на Цесаревич Алексей
END:VEVENT
BEGIN:VEVENT
UID:d44827a0812e70a8d4dbcf88cb74c4d2http://diveinstructor.com.ua-43
DTSTAMP:20260419T125618Z
CONTACT:+38050 4877739\;\nскайп:  bataeww
DESCRIPTION:Свободно 2 места.
DTSTART:20110810T080000Z
LAST-MODIFIED:20110803T145400Z
SUMMARY:Погружение на Цесаревич Алексей
END:VEVENT
BEGIN:VEVENT
UID:d44827a0812e70a8d4dbcf88cb74c4d2http://diveinstructor.com.ua-71
DTSTAMP:20260419T125618Z
CONTACT:+38050 4877739\;\nскайп:  bataeww
DESCRIPTION:Свободно 5 мест.
DTSTART:20110907T060000Z
LAST-MODIFIED:20110815T024400Z
SUMMARY:Погружение на Цесаревич + Музей
END:VEVENT
BEGIN:VEVENT
UID:d44827a0812e70a8d4dbcf88cb74c4d2http://diveinstructor.com.ua-74
DTSTAMP:20260419T125618Z
CONTACT:+38050 4877739\;\nскайп:  bataeww
DESCRIPTION:Свободно 4 места.
DTSTART:20110910T060000Z
LAST-MODIFIED:20110906T054400Z
SUMMARY:Погружение на Цесаревич
END:VEVENT
BEGIN:VEVENT
UID:d44827a0812e70a8d4dbcf88cb74c4d2http://diveinstructor.com.ua-82
DTSTAMP:20260419T125618Z
CONTACT:+38050 4877739\;\nскайп:  bataeww
DESCRIPTION:Свободно 2 места.
DTSTART:20110918T060000Z
LAST-MODIFIED:20110910T174000Z
SUMMARY:Погружение на Цесаревич
END:VEVENT
BEGIN:VEVENT
UID:d44827a0812e70a8d4dbcf88cb74c4d2http://diveinstructor.com.ua-87
DTSTAMP:20260419T125618Z
CONTACT:+38050 4877739\;\nскайп:  bataeww
DESCRIPTION:Свободно 4 места.
DTSTART:20110923T060000Z
LAST-MODIFIED:20110920T055600Z
SUMMARY:Погружение на Цесаревич
END:VEVENT
BEGIN:VEVENT
UID:9225499968356a124c1e43c8a98dd88bhttp://diveinstructor.com.ua
DTSTAMP:20260419T125618Z
CONTACT:+38050 4877739    SKYPE bataeww
DESCRIPTION: \n\nПогружение на Wreck Цесаревич Але
 сей Николаевич (divingsite/tsesar.html). Свободно 2 
 места. Требования: уровень сертификации 
 не ниже Deep Diver.
DTSTART:20120518T060000Z
LAST-MODIFIED:20120515T173400Z
SUMMARY:Погружение на Цесаревич
URL:http://divingsea.com.ua/
END:VEVENT
BEGIN:VEVENT
UID:a9c84f5a7def6bc42c1e25e28de5c89chttp://diveinstructor.com.ua
DTSTAMP:20260419T125618Z
CONTACT:+38050 4877739    SKYPE      bataeww
DESCRIPTION: \n \nПогружение на Цесаревича. (http://
 divingsea.com.ua/divingsite/tsesar.html) Свободных  мест н
 т.\nПодробнее посмотреть на карте (http://maps
 .google.com.ua/maps/ms?msa=0&amp\;msid=203216498017730136768.0004ba6770093
 b321c1db&amp\;hl=ru&amp\;ie=UTF8&amp\;t=h&amp\;ll=45.214938\,32.89032&amp\
 ;spn=0.464359\,0.878906&amp\;z=10&amp\;source=embed)
DTEND:20120629T070000Z
DTSTART:20120629T060000Z
LAST-MODIFIED:20120627T112000Z
SUMMARY:Погружение на Цесаревич
URL:http://divingsea.com.ua/
END:VEVENT
BEGIN:VEVENT
UID:f9f7c4edc97ecc048546e348640f0973http://diveinstructor.com.ua
DTSTAMP:20260419T125618Z
CONTACT:АР Крым\, п.г.т. Мирный\, дайвцентр 'Wrecks
  of western Crimea'\nSKYPE      bataeww  +38050 4877739
DESCRIPTION:   \n \nПогружение на Цесаревича (diving
 site/tsesar.html) Музей (divingsite/muzej.html). Свободно 4 
 еста .\nПодробнее посмотреть на карте (http
 ://maps.google.com.ua/maps/ms?msa=0&amp\;msid=203216498017730136768.0004ba
 6770093b321c1db&amp\;hl=ru&amp\;ie=UTF8&amp\;t=h&amp\;ll=45.214938\,32.890
 32&amp\;spn=0.464359\,0.878906&amp\;z=10&amp\;source=embed)
DTEND:20120807T195900Z
DTSTART:20120806T200000Z
LAST-MODIFIED:20120804T105200Z
SUMMARY:Цесаревич - Музей
URL:http://divingsea.com.ua/
END:VEVENT
BEGIN:VEVENT
UID:a4038ddbab67cb720698a495dadf701chttp://diveinstructor.com.ua
DTSTAMP:20260419T125618Z
CONTACT:+38050 4877739      SKYPE      bataeww
DESCRIPTION:Планируем выход на один из рэков З
 падного Крыма\, в зависимости от предпоч
 тения и комплектации группы?\nПодробнее 
 осмотреть на карте (http://maps.google.com.ua/maps/ms?msa
 =0&amp\;msid=203216498017730136768.0004ba6770093b321c1db&amp\;hl=ru&amp\;i
 e=UTF8&amp\;t=h&amp\;ll=45.214938\,32.89032&amp\;spn=0.464359\,0.878906&am
 p\;z=10&amp\;source=embed). Свободно 6 мест.
DTEND:20130507T120000Z
DTSTART:20130507T060000Z
LAST-MODIFIED:20130503T153500Z
SUMMARY:Рэки Западного Крыма
URL:http://divingsea.com.ua/
END:VEVENT
BEGIN:VEVENT
UID:86c1fb218e64ddbfd30ad1b5d1476623http://diveinstructor.com.ua
DTSTAMP:20260419T125618Z
CONTACT:АР Крым\, п.г.т. Мирный\, дайвцентр 'Wrecks
  of western Crimea'\nКонтакты : +38050 4877739  SKYPE:  bataeww
DESCRIPTION: \n \nДва погружения на Цесаревича. (
 http://divingsea.com.ua/divingsite/tsesar.html) Свободно 4  ме
 та.\nПодробнее посмотреть на карте (http://ma
 ps.google.com.ua/maps/ms?msa=0&amp\;msid=203216498017730136768.0004ba67700
 93b321c1db&amp\;hl=ru&amp\;ie=UTF8&amp\;t=h&amp\;ll=45.214938\,32.89032&am
 p\;spn=0.464359\,0.878906&amp\;z=10&amp\;source=embed)\nНаличие п
 и себе сертификата(карточки) соответств
 ующего уровня\, обязательно.
DTEND:20130607T130000Z
DTSTART:20130607T070000Z
LAST-MODIFIED:20130606T141100Z
SUMMARY:Погружением на Цесаревич
URL:http://divingsea.com.ua/
END:VEVENT
BEGIN:VEVENT
UID:00fbdd598ad117f748c52d6eca792394http://diveinstructor.com.ua
DTSTAMP:20260419T125618Z
CONTACT:+38050 4877739      SKYPE      bataeww
DESCRIPTION: \n \nПогружение на Цесаревич. (http://di
 vingsea.com.ua/divingsite/tsesar.html) Свободных мест нет.
 \nПодробнее посмотреть на карте (http://maps.goo
 gle.com.ua/maps/ms?msa=0&amp\;msid=203216498017730136768.0004ba6770093b321
 c1db&amp\;hl=ru&amp\;ie=UTF8&amp\;t=h&amp\;ll=45.214938\,32.89032&amp\;spn
 =0.464359\,0.878906&amp\;z=10&amp\;source=embed)\nНаличие при с
 ебе сертификата(карточки) соответствующ
 его уровня\, обязательно.
DTEND:20130622T110000Z
DTSTART:20130622T060000Z
LAST-MODIFIED:20130612T184100Z
SUMMARY:Погружение на Цесаревич
URL:http://divingsea.com.ua/
END:VEVENT
BEGIN:VEVENT
UID:d261964ee37c169f7cdc4273b64fed0ahttp://diveinstructor.com.ua
DTSTAMP:20260419T125618Z
CONTACT:+38050 4877739  SKYPE bataeww
DESCRIPTION:  \nДва погружения. Первое на  Цесар
 евич (http://divingsea.com.ua/divingsite/tsesar.html)\,  затем 
 ереход и второе на Бутылочку (http://divingsea.co
 m.ua/divingsite/bottle-or-monostyr.html).  Собирается груп
 а. Свободно 4 места.\nПодробнее посмотрет
 ь на карте (http://maps.google.com.ua/maps/ms?msa=0&amp\;msid=2032
 16498017730136768.0004ba6770093b321c1db&amp\;hl=ru&amp\;ie=UTF8&amp\;t=h&a
 mp\;ll=45.214938\,32.89032&amp\;spn=0.464359\,0.878906&amp\;z=10&amp\;sour
 ce=embed)
DTEND:20130919T060000Z
DTSTART:20130919T060000Z
LAST-MODIFIED:20130904T042000Z
SUMMARY:Погружение на Цесаревич и Бутылочку
URL:http://divingsea.com.ua/
END:VEVENT
END:VCALENDAR
