BEGIN:VCALENDAR
METHOD:PUBLISH
PRODID:-//https://diveinstructor.com.ua//NONSGML jCal Pro 2.2.10.545//
VERSION:2.0
X-WR-CALNAME:JCal Pro Calendar
X-WR-CALDESC:Your online events calendar
X-WR-TIMEZONE:Europe/Kiev
BEGIN:VEVENT
UID:d44827a0812e70a8d4dbcf88cb74c4d2http://diveinstructor.com.ua-18
DTSTAMP:20260419T144752Z
CONTACT:+38050 4877739\;\nскайп:  bataeww
DESCRIPTION:Свободно 4 места.
DTEND:20110716T110000Z
DTSTART:20110716T060000Z
LAST-MODIFIED:20110713T204200Z
SUMMARY:Погружение на Волга-Дон
END:VEVENT
BEGIN:VEVENT
UID:d44827a0812e70a8d4dbcf88cb74c4d2http://diveinstructor.com.ua-28
DTSTAMP:20260419T144752Z
CONTACT:+38050 4877739\;\nскайп:  bataeww
DESCRIPTION:Свободно 2 места.
DTSTART:20110726T060000Z
LAST-MODIFIED:20110721T104700Z
SUMMARY:Погружение на Волга-Дон
END:VEVENT
BEGIN:VEVENT
UID:a0fbae837363a87eb6aaf94b40baef5ehttp://diveinstructor.com.ua-30
DTSTAMP:20260419T144752Z
CONTACT:+38050 4877739\;\nскайп:  bataeww
DESCRIPTION:Свободно 2 места.
DTSTART:20110726T130000Z
LAST-MODIFIED:20110721T104400Z
SUMMARY:Погружение на Волга-Дон
END:VEVENT
BEGIN:VEVENT
UID:898e141ad557be7b25488969a093db8chttp://diveinstructor.com.ua
DTSTAMP:20260419T144752Z
CONTACT:+380504877739\;\nскайп:  bataeww
DESCRIPTION:Свободно 4 места.
DTSTART:20110802T060000Z
LAST-MODIFIED:20110803T084700Z
SUMMARY:Погружение на Волга-Дон
END:VEVENT
BEGIN:VEVENT
UID:7edd36b9f35f57ba23ef304494689502http://diveinstructor.com.ua/administra
 tor
DTSTAMP:20260419T144752Z
CONTACT:+38050 4877739\;\nскайп:  bataeww
DESCRIPTION:Свободно 4 места. Два погружения за
  выход.
DTSTART:20110805T060000Z
LAST-MODIFIED:20110803T085400Z
SUMMARY:Погружение на Волга-Дон
END:VEVENT
BEGIN:VEVENT
UID:d44827a0812e70a8d4dbcf88cb74c4d2http://diveinstructor.com.ua-50
DTSTAMP:20260419T144752Z
CONTACT:+38050 4877739\;\nскайп:  bataeww
DESCRIPTION:Свободно 3 места.
DTEND:20110817T110000Z
DTSTART:20110817T060000Z
LAST-MODIFIED:20110816T121800Z
SUMMARY:Погружение на Волга-Дон
END:VEVENT
BEGIN:VEVENT
UID:d44827a0812e70a8d4dbcf88cb74c4d2http://diveinstructor.com.ua-63
DTSTAMP:20260419T144752Z
CONTACT:+38050 4877739\;\nскайп:  bataeww
DESCRIPTION:Свободно 5 мест.
DTEND:20110830T110000Z
DTSTART:20110830T060000Z
LAST-MODIFIED:20110828T103400Z
SUMMARY:Погружение на Волга-Дон + Волга-Дон
END:VEVENT
BEGIN:VEVENT
UID:d44827a0812e70a8d4dbcf88cb74c4d2http://diveinstructor.com.ua-65
DTSTAMP:20260419T144752Z
CONTACT:+38050 4877739\;\nскайп:  bataeww
DESCRIPTION:Свободно 6 мест и есть право выбора
  маршрута: Варна\, Волга-Дон\, Старый горо
 \, Цесаревич\, Uj-102.
DTSTART:20110901T060000Z
LAST-MODIFIED:20110822T150000Z
SUMMARY:Погружение на Волга-Дон + Старый горо
 д
END:VEVENT
BEGIN:VEVENT
UID:d44827a0812e70a8d4dbcf88cb74c4d2http://diveinstructor.com.ua-69
DTSTAMP:20260419T144752Z
CONTACT:+38050 4877739\;\nскайп:  bataeww
DESCRIPTION:Свободно 5 мест.
DTSTART:20110905T060000Z
LAST-MODIFIED:20110815T024200Z
SUMMARY:Погружения на Волга-Дон + Старый горо
 д
END:VEVENT
BEGIN:VEVENT
UID:95b6c373dd684d485617462793a4429chttp://diveinstructor.com.ua
DTSTAMP:20260419T144752Z
CONTACT:+38050 4877739    SKYPE      bataeww
DESCRIPTION:\nПогружение на Wreck Волго Дон. (http://di
 vingsea.com.ua/divingsite/volgodon.html) Свободно 5 мест.
DTEND:20120421T100000Z
DTSTART:20120421T060000Z
LAST-MODIFIED:20120407T043900Z
SUMMARY:Погружение на Волго Дон
URL:http://divingsea.com.ua/
END:VEVENT
BEGIN:VEVENT
UID:72832f8fdba35f2b590bbaee51a2a4c1http://diveinstructor.com.ua
DTSTAMP:20260419T144752Z
CONTACT:+3 8050 4877739
DESCRIPTION:\nПогружение на Wreck Волго Дон. (http://di
 vingsea.com.ua/divingsite/volgodon.html) Свободно 5 мест.
DTEND:20120429T100000Z
DTSTART:20120429T060000Z
LAST-MODIFIED:20120407T040900Z
SUMMARY:Погружение на Волго Дон
URL:http://divingsea.com.ua/
END:VEVENT
BEGIN:VEVENT
UID:90864b4cd61e9a587fb7c51b23156953http://diveinstructor.com.ua
DTSTAMP:20260419T144752Z
DESCRIPTION:Погружение на Волго Дон (http://divingsea.c
 om.ua/divingsite/volgodon.html) и UJ 102 (http://divingsea.com.ua/divings
 ite/uj-102.html). Свободно 2 места.
DTEND:20120501T195900Z
DTSTART:20120430T200000Z
LAST-MODIFIED:20120418T230200Z
SUMMARY:Погружение на Волго Дон и UJ 102
END:VEVENT
BEGIN:VEVENT
UID:2f357e3b24a8fbeed4cbbb3b9e9d0b5ehttp://diveinstructor.com.ua
DTSTAMP:20260419T144752Z
CONTACT:+380504877739
DESCRIPTION: \nПогружение на Wreck Волго Дон. (http://d
 ivingsea.com.ua/divingsite/volgodon.html) Свободно 2 места.
DTEND:20120502T195900Z
DTSTART:20120501T200000Z
LAST-MODIFIED:20120428T120600Z
SUMMARY:Погружение на Волго Дон
END:VEVENT
BEGIN:VEVENT
UID:5d9aeab297e8055030e1744f6c68104ahttp://diveinstructor.com.ua
DTSTAMP:20260419T144752Z
DESCRIPTION:Свободных мест нет.
DTEND:20120510T110000Z
DTSTART:20120510T050000Z
LAST-MODIFIED:20120505T192000Z
SUMMARY:Погружение на Волго Дон и старый гор
 д
END:VEVENT
BEGIN:VEVENT
UID:630eace32fbb6ef54c944f7bcec87ec4http://diveinstructor.com.ua
DTSTAMP:20260419T144752Z
CONTACT:+38050 4877739
DESCRIPTION: \nПогружение на Wreck Волго Дон. (http://d
 ivingsea.com.ua/divingsite/volgodon.html) Свободно 6 мест.\nП
 одробнее посмотреть на карте (http://maps.google.
 com.ua/maps/ms?msa=0&amp\;msid=203216498017730136768.0004ba6770093b321c1db
 &amp\;hl=ru&amp\;ie=UTF8&amp\;t=h&amp\;ll=45.214938\,32.89032&amp\;spn=0.4
 64359\,0.878906&amp\;z=10&amp\;source=embed)
DTSTART:20120623T060000Z
LAST-MODIFIED:20120619T152000Z
SUMMARY:Погружение на Волго Дон
URL:http://divingsea.com.ua/
END:VEVENT
BEGIN:VEVENT
UID:5cf28e17e489244a78d7999618f6c1f5http://diveinstructor.com.ua/administra
 tor
DTSTAMP:20260419T144752Z
CONTACT:п.г.т. Мирный. Крым +38050 4877739 SKYPE bataeww
DESCRIPTION:  \nДва погружение на Wreck Волго Дон (d
 ivingsite/volgodon.html) Свободно 3 места.
DTSTART:20120706T060000Z
LAST-MODIFIED:20120705T153200Z
SUMMARY:Волго Дон
URL:http://divingsea.com.ua/
END:VEVENT
BEGIN:VEVENT
UID:1f37648ff6700ee16247807ce9ba6675http://diveinstructor.com.ua
DTSTAMP:20260419T144752Z
CONTACT:http://divingsea.com.ua
DESCRIPTION:  \nПогружение на Wreck Волго Дон (divingsi
 te/volgodon.html) и старый город. Свободно 2 мест
 .
DTEND:20120715T060000Z
DTSTART:20120713T060000Z
LAST-MODIFIED:20120704T154700Z
SUMMARY:Волго Дон - Страый город
URL:http://divingsea.com.ua/
END:VEVENT
BEGIN:VEVENT
UID:571af8513ec9ea65a2c06adf21d3a99chttp://diveinstructor.com.ua
DTSTAMP:20260419T144752Z
CONTACT:АР Крым\, п.г.т. Мирный\, дайвцентр 'Wrecks
  of western Crimea'\n+38050 4877739     SKYPE      bataeww
DESCRIPTION:  \nДва погружения на Wreck Волго Дон (d
 ivingsite/volgodon.html) Свободно 4 места.\nПогружен
 е в рамках курсов\, без сопровождения ги
 а.\nПодробнее посмотреть на карте (http://maps
 .google.com.ua/maps/ms?msa=0&amp\;msid=203216498017730136768.0004ba6770093
 b321c1db&amp\;hl=ru&amp\;ie=UTF8&amp\;t=h&amp\;ll=45.214938\,32.89032&amp\
 ;spn=0.464359\,0.878906&amp\;z=10&amp\;source=embed)
DTEND:20120719T195900Z
DTSTART:20120718T200000Z
LAST-MODIFIED:20120708T052900Z
SUMMARY:Погржение на Волга Дон
URL:http://divingsea.com.ua/
END:VEVENT
BEGIN:VEVENT
UID:df9f30a31ef7a8619100db18168f4c71http://diveinstructor.com.ua
DTSTAMP:20260419T144752Z
CONTACT:АР Крым\, п.г.т. Мирный\, дайвцентр 'Wrecks
  of western Crimea' +38050 4877739    SKYPE      bataeww
DESCRIPTION:  \nДва погружения на Wreck Волго Дон (d
 ivingsite/volgodon.html) Свободно 2 места.
DTEND:20120825T070000Z
DTSTART:20120825T060000Z
LAST-MODIFIED:20120824T164100Z
SUMMARY:Погружение на Волга Дон
URL:http://divingsea.com.ua/
END:VEVENT
BEGIN:VEVENT
UID:a8fea431eecfdd226f1c09705f115705http://diveinstructor.com.ua
DTSTAMP:20260419T144752Z
CONTACT:АР Крым\, п.г.т. Мирный\, дайвцентр 'Wrecks
  of western Crimea'\n+38050 4877739    SKYPE      bataeww
DESCRIPTION:  \nДва погружения на Wreck Волго Дон (h
 ttp://divingsea.com.ua/divingsite/volgodon.html) Свободных  ме
 ст нет.\nПодробнее посмотреть на карте (htt
 p://maps.google.com.ua/maps/ms?msa=0&amp\;msid=203216498017730136768.0004b
 a6770093b321c1db&amp\;hl=ru&amp\;ie=UTF8&amp\;t=h&amp\;ll=45.214938\,32.89
 032&amp\;spn=0.464359\,0.878906&amp\;z=10&amp\;source=embed)
DTSTART:20120827T060000Z
LAST-MODIFIED:20120824T164200Z
SUMMARY:Погржение на Волга Дон
URL:http://divingsea.com.ua/
END:VEVENT
BEGIN:VEVENT
UID:6bd3d3a605dd8e4ca321c2a6db1f7b85http://diveinstructor.com.ua
DTSTAMP:20260419T144752Z
CONTACT:АР Крым\, п.г.т. Мирный\, дайвцентр 'Wrecks
  of western Crimea'\n+38050 4877739     SKYPE bataeww
DESCRIPTION:  \nДва погружения на Wreck Волго Дон (h
 ttp://divingsea.com.ua/divingsite/volgodon.html) Свободно 4 мес
 та.\nПодробнее посмотреть на карте (http://map
 s.google.com.ua/maps/ms?msa=0&amp\;msid=203216498017730136768.0004ba677009
 3b321c1db&amp\;hl=ru&amp\;ie=UTF8&amp\;t=h&amp\;ll=45.214938\,32.89032&amp
 \;spn=0.464359\,0.878906&amp\;z=10&amp\;source=embed)
DTEND:20120903T060000Z
DTSTART:20120903T060000Z
LAST-MODIFIED:20120829T111700Z
SUMMARY:Погружение на Волга Дон
URL:http://divingsea.com.ua/
END:VEVENT
BEGIN:VEVENT
UID:af025ea5039a84a4b198af1f6c134197http://diveinstructor.com.ua
DTSTAMP:20260419T144752Z
CONTACT:АР Крым\, п.г.т. Мирный\, дайвцентр 'Wrecks
  of western Crimea'\n+38050 4877739   SKYPE bataeww
DESCRIPTION:  \nДва погружения на Wreck Волго Дон (h
 ttp://divingsea.com.ua/divingsite/volgodon.html). Свободно 2 ме
 та.\nПодробнее посмотреть на карте (http://ma
 ps.google.com.ua/maps/ms?msa=0&amp\;msid=203216498017730136768.0004ba67700
 93b321c1db&amp\;hl=ru&amp\;ie=UTF8&amp\;t=h&amp\;ll=45.214938\,32.89032&am
 p\;spn=0.464359\,0.878906&amp\;z=10&amp\;source=embed)
DTEND:20121007T060000Z
DTSTART:20121006T060000Z
LAST-MODIFIED:20120928T173200Z
SUMMARY:Погружение на Волга Дон
URL:http://divingsea.com.ua/
END:VEVENT
BEGIN:VEVENT
UID:91ad9dad4ab54bbc73309fe3f695e70fhttp://diveinstructor.com.ua/administra
 tor
DTSTAMP:20260419T144752Z
CONTACT:+38050 4877739    SKYPE bataeww
DESCRIPTION:  \nДва погружения на Wreck Волго Дон (h
 ttp://divingsea.com.ua/divingsite/volgodon.html). Собирается г
 руппа. Свободно 2 места.\nПодробнее посмо
 реть на карте (http://maps.google.com.ua/maps/ms?msa=0&amp\;ms
 id=203216498017730136768.0004ba6770093b321c1db&amp\;hl=ru&amp\;ie=UTF8&amp
 \;t=h&amp\;ll=45.214938\,32.89032&amp\;spn=0.464359\,0.878906&amp\;z=10&am
 p\;source=embed)\nНаличие при себе сертификата(к
 арточки) соответствующего уровня\, обяза
 тельного.
DTSTART:20130504T070000Z
LAST-MODIFIED:20130503T102700Z
SUMMARY:Погружение на Волга Дон
URL:http://divingsea.com.ua/
END:VEVENT
BEGIN:VEVENT
UID:8853faa1191dbd8ed63c7987f8ec6f48http://diveinstructor.com.ua
DTSTAMP:20260419T144752Z
CONTACT:+38050 4877739      SKYPE bataeww
DESCRIPTION:  \nПланируется погружение на Wreck Во
 лго Дон (http://divingsea.com.ua/divingsite/volgodon.html). Соб
 рается группа. Свободно 4 места.\nПодроб
 ее посмотреть на карте (http://maps.google.com.ua/maps
 /ms?msa=0&amp\;msid=203216498017730136768.0004ba6770093b321c1db&amp\;hl=ru
 &amp\;ie=UTF8&amp\;t=h&amp\;ll=45.214938\,32.89032&amp\;spn=0.464359\,0.87
 8906&amp\;z=10&amp\;source=embed)\nНаличие при себе серт
 ификата(карточки) соответствующего уров
 ня\, обязательного.
DTSTART:20130518T060000Z
LAST-MODIFIED:20130514T174500Z
SUMMARY:Погружением на Волга Дон
URL:http://divingsea.com.ua/
END:VEVENT
BEGIN:VEVENT
UID:78d3e3e84e9ca81e85d831e834e434cahttp://diveinstructor.com.ua
DTSTAMP:20260419T144752Z
CONTACT:+38050 4877739 SKYPE bataeww
DESCRIPTION:  \nПогружение на Wreck Волго Дон (http://d
 ivingsea.com.ua/divingsite/volgodon.html). Собирается груп
 а. Идут 2 человека.\nНаличие при себе серт
 ификата(карточки) соответствующего уров
 ня и ПАСПОРТА\, обязательно.\nПодробнее п
 смотреть на карте (http://maps.google.com.ua/maps/ms?msa=0
 &amp\;msid=203216498017730136768.0004ba6770093b321c1db&amp\;hl=ru&amp\;ie=
 UTF8&amp\;t=h&amp\;ll=45.214938\,32.89032&amp\;spn=0.464359\,0.878906&amp\
 ;z=10&amp\;source=embed)
DTEND:20130628T060000Z
DTSTART:20130628T060000Z
LAST-MODIFIED:20130626T103400Z
SUMMARY:Погружением на Волга Дон
URL:http://divingsea.com.ua/
END:VEVENT
BEGIN:VEVENT
UID:47bbfd52a95d5c99bf106b4b791740d0http://diveinstructor.com.ua
DTSTAMP:20260419T144752Z
CONTACT:+38050 4877739 SKYPE bataeww
DESCRIPTION:  \nПогружение на Wreck Волго Дон (http://d
 ivingsea.com.ua/divingsite/volgodon.html). Свободных мест н
 ет.\nНаличие при себе сертификата(карточ
 и) соответствующего уровня и ПАСПОРТА\, 
 бязательно.\nПодробнее посмотреть на ка
 те (http://maps.google.com.ua/maps/ms?msa=0&amp\;msid=20321649801773013
 6768.0004ba6770093b321c1db&amp\;hl=ru&amp\;ie=UTF8&amp\;t=h&amp\;ll=45.214
 938\,32.89032&amp\;spn=0.464359\,0.878906&amp\;z=10&amp\;source=embed)
DTEND:20130630T060000Z
DTSTART:20130630T060000Z
LAST-MODIFIED:20130626T103200Z
SUMMARY:Погружением на Волга Дон
URL:http://divingsea.com.ua/
END:VEVENT
BEGIN:VEVENT
UID:c266cb45b7d8cbd78e5cecc65b4d586bhttp://diveinstructor.com.ua
DTSTAMP:20260419T144752Z
CONTACT:АР Крым\, п.г.т. Мирный\, дайвцентр 'Wrecks
  of western Crimea'\n +38050 4877739     SKYPE bataeww
DESCRIPTION:  \nПогружение на Wreck Волго Дон (http://d
 ivingsea.com.ua/divingsite/volgodon.html).  Свободно 2 места
 .\nПодробнее посмотреть на карте (http://maps.go
 ogle.com.ua/maps/ms?msa=0&amp\;msid=203216498017730136768.0004ba6770093b32
 1c1db&amp\;hl=ru&amp\;ie=UTF8&amp\;t=h&amp\;ll=45.214938\,32.89032&amp\;sp
 n=0.464359\,0.878906&amp\;z=10&amp\;source=embed)\nНаличие при 
 ебе сертификата(карточки) соответствую
 его уровня и ПАСПОРТА\, обязательно.
DTEND:20130819T110000Z
DTSTART:20130819T050000Z
LAST-MODIFIED:20130818T123200Z
SUMMARY:Погружения на Волга Дон
URL:http://divingsea.com.ua/
END:VEVENT
BEGIN:VEVENT
UID:72d3f7e4f8649d20c4e33790df748785http://diveinstructor.com.ua
DTSTAMP:20260419T144752Z
CONTACT:АР Крым\, п.г.т. Мирный\, дайвцентр 'Wrecks
  of western Crimea'\n +38050 4877739  SKYPE bataeww
DESCRIPTION:  \nДва погружение на Wreck Волга Дон (h
 ttp://divingsea.com.ua/divingsite/volgodon.html)  в рамках курс
 ов ER &amp\; Trimix. Свободно 4 места.\nПодробнее 
 посмотреть на карте (http://maps.google.com.ua/maps/ms?ms
 a=0&amp\;msid=203216498017730136768.0004ba6770093b321c1db&amp\;hl=ru&amp\;
 ie=UTF8&amp\;t=h&amp\;ll=45.214938\,32.89032&amp\;spn=0.464359\,0.878906&a
 mp\;z=10&amp\;source=embed).\nНаличие при себе сертиф
 ката(карточки) соответствующего уровня 
 и ПАСПОРТА\, обязательно.
DTEND:20130902T110000Z
DTSTART:20130902T060000Z
LAST-MODIFIED:20130901T050700Z
SUMMARY:Погружения на Волга Дон
URL:http://divingsea.com.ua/
END:VEVENT
BEGIN:VEVENT
UID:783e1180b1b825374ae7adbf5e69d3e2http://diveinstructor.com.ua
DTSTAMP:20260419T144752Z
CONTACT:+38050 4877739    SKYPE bataeww
DESCRIPTION:  \nДва погружения на Wreck Волго Дон (h
 ttp://divingsea.com.ua/divingsite/volgodon.html).  Свободно 1 м
 ста.\nПодробнее посмотреть на карте (http://
 maps.google.com.ua/maps/ms?msa=0&amp\;msid=203216498017730136768.0004ba677
 0093b321c1db&amp\;hl=ru&amp\;ie=UTF8&amp\;t=h&amp\;ll=45.214938\,32.89032&
 amp\;spn=0.464359\,0.878906&amp\;z=10&amp\;source=embed)\nНаличие 
 ри себе сертификата(карточки) соответст
 вующего уровня и ПАСПОРТА\, обязательно.
DTEND:20130921T110000Z
DTSTART:20130921T060000Z
LAST-MODIFIED:20130918T154100Z
SUMMARY:Погружение на Волга Дон
URL:http://divingsea.com.ua/
END:VEVENT
END:VCALENDAR
